BEGIN:VCALENDAR
VERSION:2.0
PRODID:-//Waterfront Botanical Gardens - ECPv6.6.4.2//NONSGML v1.0//EN
CALSCALE:GREGORIAN
METHOD:PUBLISH
X-WR-CALNAME:Waterfront Botanical Gardens
X-ORIGINAL-URL:https://waterfrontgardens.org
X-WR-CALDESC:Events for Waterfront Botanical Gardens
REFRESH-INTERVAL;VALUE=DURATION:PT1H
X-Robots-Tag:noindex
X-PUBLISHED-TTL:PT1H
BEGIN:VTIMEZONE
TZID:America/Kentucky/Louisville
BEGIN:DAYLIGHT
TZOFFSETFROM:-0500
TZOFFSETTO:-0400
TZNAME:EDT
DTSTART:20250309T070000
END:DAYLIGHT
BEGIN:STANDARD
TZOFFSETFROM:-0400
TZOFFSETTO:-0500
TZNAME:EST
DTSTART:20251102T060000
END:STANDARD
END:VTIMEZONE
BEGIN:VEVENT
DTSTART;TZID=America/Kentucky/Louisville:20250521T180000
DTEND;TZID=America/Kentucky/Louisville:20250521T200000
DTSTAMP:20260419T083401
CREATED:20250217T202712Z
LAST-MODIFIED:20250512T154410Z
UID:7966-1747850400-1747857600@waterfrontgardens.org
SUMMARY:SOLD OUT - Evening Plein Air Painting in the Gardens
DESCRIPTION:Wednesday\, May 21 · 6:00 to 8:00pm\nFrances Newman Alden Learning Center\, in the Ellen T. Leslie Building\n$60 | $48 WBG members \nStudents will be introduced to the fundamentals of plein-air painting: Working on our canvas panels we will learn how to mix colors from observation\, record important notes\, and how to work quickly to capture the essence of a moment. Beginner friendly. \nSOLD OUT \nInstructor: Charlotte Pollock
URL:https://waterfrontgardens.org/event/evening-plein-air-painting-in-the-gardens/
LOCATION:Waterfront Botanical Gardens\, 1435 Frankfort Avenue\, Louisville\, KY\, 40206\, United States
CATEGORIES:Class/Workshop
ATTACH;FMTTYPE=image/jpeg:https://waterfrontgardens.org/wp-content/uploads/2024/08/IMG_9774.jpg
END:VEVENT
END:VCALENDAR